BEGIN:VCALENDAR
VERSION:2.0
PRODID:-//FutureCite - ECPv6.15.20//NONSGML v1.0//EN
CALSCALE:GREGORIAN
METHOD:PUBLISH
X-WR-CALNAME:FutureCite
X-ORIGINAL-URL:https://futurecite.com
X-WR-CALDESC:Events for FutureCite
REFRESH-INTERVAL;VALUE=DURATION:PT1H
X-Robots-Tag:noindex
X-PUBLISHED-TTL:PT1H
BEGIN:VTIMEZONE
TZID:America/Edmonton
BEGIN:DAYLIGHT
TZOFFSETFROM:-0700
TZOFFSETTO:-0600
TZNAME:MDT
DTSTART:20200308T090000
END:DAYLIGHT
BEGIN:STANDARD
TZOFFSETFROM:-0600
TZOFFSETTO:-0700
TZNAME:MST
DTSTART:20201101T080000
END:STANDARD
BEGIN:DAYLIGHT
TZOFFSETFROM:-0700
TZOFFSETTO:-0600
TZNAME:MDT
DTSTART:20210314T090000
END:DAYLIGHT
BEGIN:STANDARD
TZOFFSETFROM:-0600
TZOFFSETTO:-0700
TZNAME:MST
DTSTART:20211107T080000
END:STANDARD
BEGIN:DAYLIGHT
TZOFFSETFROM:-0700
TZOFFSETTO:-0600
TZNAME:MDT
DTSTART:20220313T090000
END:DAYLIGHT
BEGIN:STANDARD
TZOFFSETFROM:-0600
TZOFFSETTO:-0700
TZNAME:MST
DTSTART:20221106T080000
END:STANDARD
END:VTIMEZONE
BEGIN:VEVENT
DTSTART;TZID=America/Edmonton:20210503T080000
DTEND;TZID=America/Edmonton:20210630T170000
DTSTAMP:20260423T180538
CREATED:20210420T014241Z
LAST-MODIFIED:20210420T014241Z
UID:15708-1620028800-1625072400@futurecite.com
SUMMARY:Bridging the Connectivity Challenge: Hackathon to Improve Rural Alberta
DESCRIPTION:TACKLE A REAL-WORLD PROBLEM TO IMPROVE THE LIVES OF RURAL ALBERTANS\n\n\n\n\n\n\nAbout this Event\n\n\nDo you enjoy problem-solving\, analytics\, and creativity? This is your opportunity to use those skills to help hack the digital divide! Get access to open data sets\, virtual machines\, and data science workshops to develop your expertise and create your very own data product. \nAbout the Hackathon:  \nBy 2021\, Canada’s federal government has committed to bringing high-speed internet to 90% of Canadians. However\, we still have a long ways to go. Many rural communities are still working on bridging that digital divide. \nCybera and ISAIC are teaming up to host a virtual open data science hackathon from May 3-30\, 2021. This event will give participants (individuals or self-formed teams) the opportunity to connect with others from across the province who are interested in data science. Extract insights from open data sets\, and leverage virtual machines and professional development workshops to develop a solution that will enrich our province. \nThe goals of this hackathon are to: \n\nUse relevant and open data to assess the connectivity barriers and gaps that exist throughout Alberta. This includes identifying communities that are under-served.\nAssess the correlation between social and economic indicators\, and the speed of connectivity\, to determine the role high-speed internet plays in community growth and sustainability.\n\n\n\nParticipants will create and submit data science products that:  \n\nHave a clear goal or hypothesis that aligns with the hackathon’s goals\nIdentify\, use\, and transform relevant open datasets\nOffer compelling metrics and data visualizations that support the participant’s hypothesis\nTell a story\n\nRural Alberta communities will directly benefit from your efforts\, as the output will be used to inform community planning and advocacy efforts for access to high-speed internet. \nSee the hackathon website for more information. View the full rules. \nPrizes \nOver $4\,000 in cash and prizes will be awarded to multiple teams and individuals. (Stay tuned for prize details) \n\nBest Overall Award\nSocial Impact Award\nTechnical Implementation ISAIC Award\nSolo Effort Award\n\nJudging Criteria \n\nSocial Impact = 25%\nCreativity & Resourcefulness = 25%\nCommunicating Your Project Story = 25%\nTechnical Proficiency\, Implementation and Feasibility = 25%
URL:https://futurecite.com/event/bridging-the-connectivity-challenge-hackathon-to-improve-rural-alberta/
LOCATION:Virtual Online
CATEGORIES:AI / ML / Data Science,Contest,Digital Transformation,Entrepreneurs,Future Cities,Government,Innovation,Living,Media & Communications,Networking,Social Innovation,Startups,STEME,Students,Technology,Webinar
END:VEVENT
BEGIN:VEVENT
DTSTART;TZID=America/Edmonton:20210510T080000
DTEND;TZID=America/Edmonton:20210705T170000
DTSTAMP:20260423T180538
CREATED:20210127T000641Z
LAST-MODIFIED:20210127T000641Z
UID:15043-1620633600-1625504400@futurecite.com
SUMMARY:Alberta IoT Fast Track Program Cohort 3
DESCRIPTION:Apply to Enrol in the Fast Track Program\n\n\n\nAlberta IoT is dedicated to establishing Alberta as a worldwide leader in the Internet of Things (IoT).\n\n\n\n\n\n\n\n\n\n\n\n\n\nThe Alberta IoT Fast Track is a technology ecosystem program to help established businesses (in Calgary and surrounding areas) in IoT (running IoT as a business or leveraging IoT for their growth) to scale up\, gain access to resources\, and increase collaboration between tech sector businesses\, with the ultimate goal of creating new jobs\, expand operations\, and increasing revenue in Canada and abroad. \nWhat’s Involved\n\n\n\n\nUpcoming Program Dates:\nCohort 1 – January 4 – February 26\, 2021\nCohort 2 – March 8 – May 3\, 2021\nCohort 3 – May 10 – July 5\, 2021 \n\n\n\nTraining Areas\n\nBusiness expansion modelling\nSales & Marketing\nSystems and processes\nSourcing New Digital Technologies\nR&D Process\nPR & Positioning IoT Business Voice To Take Centre Stage\nStrategic Funding and Resource Linking for Global Expansion\nBusiness Collaboration Project Planning\n\n\n\n\nCommitment\nThe Fast Track Program aims to provide the right support systems and education to increase revenue for IoT companies in Alberta and position these businesses to successfully expand globally. \nThis will be achieved through: \n\n8-week live business training program\n1 year mentorship with cohort\nWeekly training sessions with key resource partners\n1:1 coaching sessions over 1 year with quarterly check-ins
URL:https://futurecite.com/event/alberta-iot-fast-track-program-cohort-3/
LOCATION:Virtual Online
CATEGORIES:AI / ML / Data Science,Course,Education,Entrepreneurs,Innovation,IoT,Leadership,Learning,Manufacturing & Exports,Marketing,Networking,Small Business,Technology,Webinar
END:VEVENT
BEGIN:VEVENT
DTSTART;TZID=America/Edmonton:20210602T160000
DTEND;TZID=America/Edmonton:20210617T173000
DTSTAMP:20260423T180538
CREATED:20210519T001436Z
LAST-MODIFIED:20210519T001436Z
UID:15798-1622649600-1623951000@futurecite.com
SUMMARY:Take Control of Algorithms\, Data\, and Infrastructure
DESCRIPTION:Take Control of Algorithms\, Data\, and Infrastructure\n\nWednesday June 2\, 2021 4:00pm to 5:30pm \nryerson.zoom.us/j/91941276567 \n\n#2 in CFE Series: Taming Big Tech: Exploring the Alternatives \nMeredith Whittaker​ – In Conversation with Andrew Clement​ \nMeredith Whittaker founded Google’s Open Research Group\, co-founded M-Lab\, and is a Minderoo Research Professor at New York University where she is co-founder and faculty director of the AI Now Institute. She has been an advisor to the White House\, the FCC\, the European Parliament among others on artificial intelligence and internet policy. Join Meredith is conversation with Andrew Clement\, Professor Emeritus in University of Toronto’s Faculty of Information where he coordinates the Information Policy Research Program and co-founded the Identity Privacy and Security Institute. \nCo-sponsors: Edmonton Public Library\, Milton Public Library\, Thunder Bay Public Library\, Toronto Public Library\, Vancouver Public Library \nZoom link to event ryerson.zoom.us/j/91941276567 \nThis is a free event and no registration is required. \nPlease contact cfe@ryerson.ca if you require accommodation to ensure inclusion in this event.
URL:https://futurecite.com/event/take-control-of-algorithms-data-and-infrastructure/
LOCATION:Virtual Online
CATEGORIES:AI / ML / Data Science,Digital Transformation,Entrepreneurs,Governance,Government,Regulatory,Research,Science,Social Innovation,STEME,Technology,Webinar
END:VEVENT
BEGIN:VEVENT
DTSTART;TZID=America/Edmonton:20210604T120000
DTEND;TZID=America/Edmonton:20210621T130000
DTSTAMP:20260423T180538
CREATED:20210519T002534Z
LAST-MODIFIED:20210519T002534Z
UID:15800-1622808000-1624280400@futurecite.com
SUMMARY:Founder Fridays: Remote Work Revolution Author Chat
DESCRIPTION:June 4 : Fireside chat with  Tsedal Neeley\, author of  Remote Work Revolution : How to Work From Anywhere Founder Fridays is a series of fireside chats with authors of books that are  typically  held on the 1st and 3rd Friday of each month\, the initiative is based on the success of a fireside chat with Ian Hathaway (Brad Feld’s co-author on their latest book) that had 300+ participants and gave away 100 copies of The Startup Community Way to attendees from across Alberta. \nEach month you can register for either or both of two sessions: \nA fireside chat  with an author where the last 15 minutes is a Q & A session with the participants and a link is provided so those from Alberta can request a free copy of the author’s book. \nTable discussions  held two weeks later (sometimes with\, sometimes without the author) to discuss the different ways the content from the fireside chat and the author’s book can be applied to Alberta’s Startup Community. \nFounder Fridays are designed to support Alberta’s entrepreneurs\, mentors\, investors\, ecosystem builders and service providers by: \n\nUpskilling entrepreneurs\, mentors\, ecosystem builders and service providers\nDeveloping entrepreneurship and entrepreneurship support in and around post-secondary institutions\nHelping startups grow faster and develop the expertise and traction required to attract capital\nIncreasing the volume of startups and the velocity at which they progress through the Startup Commons stages\n\nWorking with existing entrepreneurship support organizations to expand their mentor network Founder Fridays is a joint initiative of 150 Startups\, Bow Valley College\, Futurepreneur\, Rainforest Alberta\, and the Venture Mentoring Service of Alberta and are made possible by the generous support of Bow Valley College\, RBC\, The Hunter Family Foundation\, Calgary Innovation Coalition\, RINSA\, and Women Entrepreneurs-in-STEM. \nPast Sessions: \nApril 9 : Fireside chat with  Cory Bray\, author of  Sales Playbooks: The Builders Toolkit April 23 : Roundtable discussion with Joseph Fung on how to apply the learnings from Cory’s fireside chat and book May 7 : Fireside chat with  Vijay Govindarajan\, author of  The Three Box Solution Call or text Craig Elias (+1.403.874.2998) if you have any questions or suggestions for future authors and their books.
URL:https://futurecite.com/event/founder-fridays-remote-work-revolution-author-chat/
LOCATION:Virtual Online
CATEGORIES:Digital Transformation,Entrepreneurs,Human Talent,Industry,Innovation,Learning,Living,Recruiting,Small Business,Startups,Technology,Webinar
END:VEVENT
END:VCALENDAR