BEGIN:VCALENDAR
VERSION:2.0
PRODID:-//FutureCite - ECPv6.15.20//NONSGML v1.0//EN
CALSCALE:GREGORIAN
METHOD:PUBLISH
X-WR-CALNAME:FutureCite
X-ORIGINAL-URL:https://futurecite.com
X-WR-CALDESC:Events for FutureCite
REFRESH-INTERVAL;VALUE=DURATION:PT1H
X-Robots-Tag:noindex
X-PUBLISHED-TTL:PT1H
BEGIN:VTIMEZONE
TZID:America/Edmonton
BEGIN:DAYLIGHT
TZOFFSETFROM:-0700
TZOFFSETTO:-0600
TZNAME:MDT
DTSTART:20180311T090000
END:DAYLIGHT
BEGIN:STANDARD
TZOFFSETFROM:-0600
TZOFFSETTO:-0700
TZNAME:MST
DTSTART:20181104T080000
END:STANDARD
BEGIN:DAYLIGHT
TZOFFSETFROM:-0700
TZOFFSETTO:-0600
TZNAME:MDT
DTSTART:20190310T090000
END:DAYLIGHT
BEGIN:STANDARD
TZOFFSETFROM:-0600
TZOFFSETTO:-0700
TZNAME:MST
DTSTART:20191103T080000
END:STANDARD
BEGIN:DAYLIGHT
TZOFFSETFROM:-0700
TZOFFSETTO:-0600
TZNAME:MDT
DTSTART:20200308T090000
END:DAYLIGHT
BEGIN:STANDARD
TZOFFSETFROM:-0600
TZOFFSETTO:-0700
TZNAME:MST
DTSTART:20201101T080000
END:STANDARD
END:VTIMEZONE
BEGIN:VEVENT
DTSTART;TZID=America/Edmonton:20190818T090000
DTEND;TZID=America/Edmonton:20190818T130000
DTSTAMP:20260423T023954
CREATED:20190710T224247Z
LAST-MODIFIED:20190710T224247Z
UID:13752-1566118800-1566133200@futurecite.com
SUMMARY:60th Annual Sourdough Raft Race - New Date!
DESCRIPTION:JOIN US FOR THE 60th ANNUAL RAFT RACE!! \n  \nRafts launch from Terwillegar Park at 11:00AM.  See Website for Raft Race Entry Info and How to Build a Raft! \nTOONIE PANCAKE BREAKFAST\nserved at Terwillegar Park starting at 9:00AM\nEveryone Welcome!
URL:https://futurecite.com/event/60th-annual-sourdough-raft-race-2/
LOCATION:Terwillegar Park\, 10 Rabbit Hill Road\,NW\, Edmonton\, Alberta\, T6R 0R7\, Canada
CATEGORIES:Adventures,Contest,Entertainment,Family,Food,LifeStyle,Sports,Travel
ATTACH;FMTTYPE=image/jpeg:https://futurecite.com/wp-content/uploads/2019/07/Gallery-Image-021.jpg
END:VEVENT
BEGIN:VEVENT
DTSTART;TZID=America/Edmonton:20190818T090000
DTEND;TZID=America/Edmonton:20190818T130000
DTSTAMP:20260423T023954
CREATED:20190710T224247Z
LAST-MODIFIED:20190723T063601Z
UID:8260-1566118800-1566133200@futurecite.com
SUMMARY:60th Annual Sourdough Raft Race - New Date!
DESCRIPTION:JOIN US FOR THE 60th ANNUAL RAFT RACE!! \n  \nRafts launch from Terwillegar Park at 11:00AM.  See Website for Raft Race Entry Info and How to Build a Raft! \nTOONIE PANCAKE BREAKFAST\nserved at Terwillegar Park starting at 9:00AM\nEveryone Welcome!
URL:https://futurecite.com/event/60th-annual-sourdough-raft-race/
LOCATION:Terwillegar Park\, 10 Rabbit Hill Road\,NW\, Edmonton\, Alberta\, T6R 0R7\, Canada
CATEGORIES:Adventures,Contest,Entertainment,Family,Food,LifeStyle,Sports,Travel
ATTACH;FMTTYPE=image/jpeg:https://futurecite.com/wp-content/uploads/2019/07/Gallery-Image-021.jpg
END:VEVENT
BEGIN:VEVENT
DTSTART;TZID=America/Edmonton:20190829T160000
DTEND;TZID=America/Edmonton:20190829T180000
DTSTAMP:20260423T023954
CREATED:20190817T001406Z
LAST-MODIFIED:20190817T001406Z
UID:13770-1567094400-1567101600@futurecite.com
SUMMARY:Falling Water Pitch Competition
DESCRIPTION:UAlberta and TEC Edmonton are hosting a pitch competition for UAlberta science-based start-ups. Join us on August 29\, 2019 as five promising companies compete for a spot in the international startup pitch event\, Falling Walls Venture\, in Berlin in November. Our five competitors are:\n\n48Hour Discovery – Making drug discovery faster\, easier and less costly.\nTrue Angle Medical Technologies – Bringing rehab therapy clinic to you\nRoshan Water Solutions – Portable\, easy\, quick water testing\nTricca Technologies – Inspired by Star Treks’ tricorder\, Tricca is developing inexpensive\, portable and easy to use biosensor technologies.\nMedo.Ai – Taking the power of medical imaging to everyone\, everywhere.\n\nJoin us to hear these start-ups share the amazing technology they are developing. \nThis event is sponsored by: The University of Alberta\, TEC Edmonton\, University of Alberta Faculty of Graduate Studies and Research\, Entrepreneur Roadmap..a THNQ company\, the German Canadian Centre for Innovation and Research\, eHub\, Innovate Edmonton\, and the Kule Institute for Advanced Study and our event Innovation Sponsor – DynaLIFE. \nUofA Campus – Oborowsky Degner Seminar Hall \nLi Ka Shing Centre for Health Research Innovation \nCorner of 87 Ave and 112 Street \nEdmonton\, Alberta T6G 2E1 \nView MapUn \n 
URL:https://futurecite.com/event/falling-water-pitch-competition-2/
LOCATION:University of Alberta Li Ka Shing Health Research Institute\, Corner of 87 Ave and 112 Street\, Edmonton\, Alberta
CATEGORIES:Contest,Digital Transformation,Education,Energy,Entrepreneurs,Health,Industry,Innovation,Research,Robotics,Science,Technology
END:VEVENT
BEGIN:VEVENT
DTSTART;TZID=America/Edmonton:20190829T160000
DTEND;TZID=America/Edmonton:20190829T180000
DTSTAMP:20260423T023954
CREATED:20190817T001406Z
LAST-MODIFIED:20190817T001537Z
UID:8543-1567094400-1567101600@futurecite.com
SUMMARY:Falling Water Pitch Competition
DESCRIPTION:UAlberta and TEC Edmonton are hosting a pitch competition for UAlberta science-based start-ups. Join us on August 29\, 2019 as five promising companies compete for a spot in the international startup pitch event\, Falling Walls Venture\, in Berlin in November. Our five competitors are:\n\n48Hour Discovery – Making drug discovery faster\, easier and less costly.\nTrue Angle Medical Technologies – Bringing rehab therapy clinic to you\nRoshan Water Solutions – Portable\, easy\, quick water testing\nTricca Technologies – Inspired by Star Treks’ tricorder\, Tricca is developing inexpensive\, portable and easy to use biosensor technologies.\nMedo.Ai – Taking the power of medical imaging to everyone\, everywhere.\n\nJoin us to hear these start-ups share the amazing technology they are developing. \nThis event is sponsored by: The University of Alberta\, TEC Edmonton\, University of Alberta Faculty of Graduate Studies and Research\, Entrepreneur Roadmap..a THNQ company\, the German Canadian Centre for Innovation and Research\, eHub\, Innovate Edmonton\, and the Kule Institute for Advanced Study and our event Innovation Sponsor – DynaLIFE. \nUofA Campus – Oborowsky Degner Seminar Hall \nLi Ka Shing Centre for Health Research Innovation \nCorner of 87 Ave and 112 Street \nEdmonton\, Alberta T6G 2E1 \nView MapUn \n 
URL:https://futurecite.com/event/falling-water-pitch-competition/
LOCATION:University of Alberta Li Ka Shing Health Research Institute\, Corner of 87 Ave and 112 Street\, Edmonton\, Alberta
CATEGORIES:Contest,Digital Transformation,Education,Energy,Entrepreneurs,Health,Industry,Innovation,Research,Robotics,Science,Technology
END:VEVENT
END:VCALENDAR