BEGIN:VCALENDAR
VERSION:2.0
PRODID:-//FutureCite - ECPv6.15.20//NONSGML v1.0//EN
CALSCALE:GREGORIAN
METHOD:PUBLISH
X-ORIGINAL-URL:https://futurecite.com
X-WR-CALDESC:Events for FutureCite
REFRESH-INTERVAL;VALUE=DURATION:PT1H
X-Robots-Tag:noindex
X-PUBLISHED-TTL:PT1H
BEGIN:VTIMEZONE
TZID:America/Edmonton
BEGIN:DAYLIGHT
TZOFFSETFROM:-0700
TZOFFSETTO:-0600
TZNAME:MDT
DTSTART:20200308T090000
END:DAYLIGHT
BEGIN:STANDARD
TZOFFSETFROM:-0600
TZOFFSETTO:-0700
TZNAME:MST
DTSTART:20201101T080000
END:STANDARD
BEGIN:DAYLIGHT
TZOFFSETFROM:-0700
TZOFFSETTO:-0600
TZNAME:MDT
DTSTART:20210314T090000
END:DAYLIGHT
BEGIN:STANDARD
TZOFFSETFROM:-0600
TZOFFSETTO:-0700
TZNAME:MST
DTSTART:20211107T080000
END:STANDARD
BEGIN:DAYLIGHT
TZOFFSETFROM:-0700
TZOFFSETTO:-0600
TZNAME:MDT
DTSTART:20220313T090000
END:DAYLIGHT
BEGIN:STANDARD
TZOFFSETFROM:-0600
TZOFFSETTO:-0700
TZNAME:MST
DTSTART:20221106T080000
END:STANDARD
END:VTIMEZONE
BEGIN:VEVENT
DTSTART;TZID=America/Edmonton:20210121T080000
DTEND;TZID=America/Edmonton:20210121T170000
DTSTAMP:20260423T053818
CREATED:20210122T034323Z
LAST-MODIFIED:20210122T034323Z
UID:15008-1611216000-1611248400@futurecite.com
SUMMARY:Space Settlement Entrepreneur Competition 2021
DESCRIPTION:Space Settlement Entrepreneur Competition: Develop a private space company decades into the future!\n\n\n\n\n\nAbout this Event\n\n\nAudience: High-school and Undergraduate-college students \nThe SSEC is an online (virtual) competition for high-school and undergraduate-college students\, interested in the future of space technology and entrepreneurship. Over the course of this 3-5 day online competition event\, students will develop a space-industry start-up company that meets the needs of a newly-designed space settlement (2020’s competition description- https://bit.ly/SSDCIntro). \nStudents will learn about: the entrepreneurial mindset\, marketing\, problem and solution ideation\, business models\, prototyping\, investor pitch decks\, and the all-important elevator pitch. \nPricing: $50 (online/virtual competition) WITH FULL SCHOLARSHIP OPTIONS! \nFor the most up-to-date information\, visit: www.STEME.org/ssec \nIf you are in FINANCIAL NEED and cannot afford to attend but wish to attend\, we urge you to apply for our Scholarship ($50 value): https://bit.ly/SSECScholarship1 \nSee tentative agenda will be published in February 2021 \nThu\, Mar 25\, 2021\, 4:30 PM – Mon\, Mar 29\, 2021\, 5:00 PM MDT
URL:https://futurecite.com/event/space-settlement-entrepreneur-competition-2021/
LOCATION:Virtual Online
CATEGORIES:AI / ML / Data Science,Community Planning,Competition,Conference,Contest,Entrepreneurs,Innovation,Leadership,Living,Pitch Competition,Scholarships,Science,Space Exploration,STEME,Students,Technology,Webinar
END:VEVENT
END:VCALENDAR