BEGIN:VCALENDAR
VERSION:2.0
PRODID:-//FutureCite - ECPv6.15.20//NONSGML v1.0//EN
CALSCALE:GREGORIAN
METHOD:PUBLISH
X-WR-CALNAME:FutureCite
X-ORIGINAL-URL:https://futurecite.com
X-WR-CALDESC:Events for FutureCite
REFRESH-INTERVAL;VALUE=DURATION:PT1H
X-Robots-Tag:noindex
X-PUBLISHED-TTL:PT1H
BEGIN:VTIMEZONE
TZID:America/Edmonton
BEGIN:DAYLIGHT
TZOFFSETFROM:-0700
TZOFFSETTO:-0600
TZNAME:MDT
DTSTART:20220313T090000
END:DAYLIGHT
BEGIN:STANDARD
TZOFFSETFROM:-0600
TZOFFSETTO:-0700
TZNAME:MST
DTSTART:20221106T080000
END:STANDARD
BEGIN:DAYLIGHT
TZOFFSETFROM:-0700
TZOFFSETTO:-0600
TZNAME:MDT
DTSTART:20230312T090000
END:DAYLIGHT
BEGIN:STANDARD
TZOFFSETFROM:-0600
TZOFFSETTO:-0700
TZNAME:MST
DTSTART:20231105T080000
END:STANDARD
BEGIN:DAYLIGHT
TZOFFSETFROM:-0700
TZOFFSETTO:-0600
TZNAME:MDT
DTSTART:20240310T090000
END:DAYLIGHT
BEGIN:STANDARD
TZOFFSETFROM:-0600
TZOFFSETTO:-0700
TZNAME:MST
DTSTART:20241103T080000
END:STANDARD
END:VTIMEZONE
BEGIN:VEVENT
DTSTART;TZID=America/Edmonton:20230531T080000
DTEND;TZID=America/Edmonton:20230602T170000
DTSTAMP:20260423T194814
CREATED:20230529T001116Z
LAST-MODIFIED:20230529T003844Z
UID:18455-1685520000-1685725200@futurecite.com
SUMMARY:Inventures: Three Days of Discovery
DESCRIPTION:FutureCite will be at the Inventures Conference in Calgary!\nLooking forward to connecting with innovative minds who are looking on making a future impact to build a better world! Hope to see you there! \n\nMay 21 – June 2 2023 \n\nAbout Inventures\nJoin the best and brightest in global innovation for three days of learning\, inspiration and creative collisions.
URL:https://futurecite.com/event/inventures-see-you-there/
LOCATION:Calgary Telus Convention Centre
CATEGORIES:Conference,Digital Transformation,Entrepreneurs,Industry,Innovation,Leadership,Learning,Networking,Pitch Competition,Startups,Technology
END:VEVENT
END:VCALENDAR